0.00000000000000
0.09000000000000
0.09000000000000
-0.00000000000000
672199.71737883158000
262700.54211029602000
