0.00000000000000
0.09000000000000
0.09000000000000
-0.00000000000000
672205.71737883158000
265805.54211029602000
