-0.00000000000000
-0.09000000000000
-0.09000000000000
0.00000000000000
672830.67429001839000
257667.17704086981000
