-0.00000000000000
-0.09000000000000
-0.09000000000000
0.00000000000000
672830.67429001839000
262767.17704086978000
