-0.00000000000000
-0.09000000000000
-0.09000000000000
0.00000000000000
672820.67429001839000
263329.17704086978000
