-0.00000000000000
-0.09000000000000
-0.09000000000000
0.00000000000000
672834.67429001839000
267013.17704086978000
