0.00000000000000
0.09000000000000
0.09000000000000
-0.00000000000000
669995.32570998161000
254955.82295913019000
