0.00000000000000
0.09000000000000
0.09000000000000
-0.00000000000000
669987.32570998161000
255656.82295913019000
