0.00000000000000
0.09000000000000
0.09000000000000
-0.00000000000000
669989.32570998161000
256349.82295913019000
