0.00000000000000
0.09000000000000
0.09000000000000
-0.00000000000000
670008.32570998161000
257571.82295913019000
