0.00000000000000
0.09000000000000
0.09000000000000
-0.00000000000000
670016.32570998161000
258053.82295913019000
