0.00000000000000
0.09000000000000
0.09000000000000
-0.00000000000000
669984.32570998161000
260148.82295913019000
