-0.00000000000000
-0.09000000000000
-0.09000000000000
0.00000000000000
670636.67429001839000
260252.17704086981000
