-0.08019058717695
0.04085914497656
0.04085914497656
0.08019058717695
687447.35398887412000
233940.95887896902000
