-0.03945340321102
0.08089146416693
0.08089146416693
0.03945340321102
692860.63756999653000
231542.54255255018000
