0.03803564355666
-0.08156770083330
-0.08156770083330
-0.03803564355666
694765.25985988579000
226251.64715392774000
