0.03516580156403
-0.08284543681072
-0.08284543681072
-0.03516580156403
693966.68292674725000
225306.99004562906000
