0.03803564355666
-0.08156770083330
-0.08156770083330
-0.03803564355666
690753.25985988579000
231825.64715392774000
