-0.03945340321102
0.08089146416693
0.08089146416693
0.03945340321102
690391.63756999653000
226145.54255255018000
