-0.03945340321102
0.08089146416693
0.08089146416693
0.03945340321102
689776.63756999653000
227348.54255255018000
