-0.03945340321102
0.08089146416693
0.08089146416693
0.03945340321102
689165.63756999653000
228625.54255255018000
