-0.03945340321102
0.08089146416693
0.08089146416693
0.03945340321102
687974.63756999653000
231106.54255255018000
