-0.03945340321102
0.08089146416693
0.08089146416693
0.03945340321102
684481.63756999653000
238222.54255255018000
