-0.03945340321102
0.08089146416693
0.08089146416693
0.03945340321102
684204.63756999653000
238805.54255255018000
