-0.03945340321102
0.08089146416693
0.08089146416693
0.03945340321102
683973.63756999653000
239278.54255255018000
