-0.03945340321102
0.08089146416693
0.08089146416693
0.03945340321102
680648.63756999653000
246108.54255255018000
