-0.03945340321102
0.08089146416693
0.08089146416693
0.03945340321102
679288.63756999653000
248891.54255255018000
