-0.03945340321102
0.08089146416693
0.08089146416693
0.03945340321102
678293.63756999653000
250892.54255255018000
