0.04085914497656
-0.08019058717695
-0.08019058717695
-0.04085914497656
689459.34913804021000
229148.91943275646000
