0.03803564355666
-0.08156770083330
-0.08156770083330
-0.03803564355666
686522.25985988579000
235263.64715392774000
