0.03803564355666
-0.08156770083330
-0.08156770083330
-0.03803564355666
685860.25985988579000
236646.64715392774000
