0.03945340321102
-0.08089146416693
-0.08089146416693
-0.03945340321102
683760.36243000347000
240932.45744744982000
