0.03803564355666
-0.08156770083330
-0.08156770083330
-0.03803564355666
683175.25985988579000
242146.64715392774000
