0.04085914497656
-0.08019058717695
-0.08019058717695
-0.04085914497656
682278.34913804021000
243961.91943275646000
