0.03803564355666
-0.08156770083330
-0.08156770083330
-0.03803564355666
682027.25985988579000
244530.64715392774000
