0.03945340321102
-0.08089146416693
-0.08089146416693
-0.03945340321102
680579.36243000347000
247471.45744744982000
