0.04085914497656
-0.08019058717695
-0.08019058717695
-0.04085914497656
680244.34913804021000
248132.91943275646000
