0.03803564355666
-0.08156770083330
-0.08156770083330
-0.03803564355666
678106.25985988579000
252595.64715392774000
