0.04085914497656
-0.08019058717695
-0.08019058717695
-0.04085914497656
687940.34913804021000
229672.91943275646000
