0.04085914497656
-0.08019058717695
-0.08019058717695
-0.04085914497656
683497.34913804021000
238846.91943275646000
