0.03945340321102
-0.08089146416693
-0.08089146416693
-0.03945340321102
682946.36243000347000
239998.45744744982000
