0.04085914497656
-0.08019058717695
-0.08019058717695
-0.04085914497656
680399.34913804021000
245247.91943275646000
