0.04085914497656
-0.08019058717695
-0.08019058717695
-0.04085914497656
679906.34913804021000
246270.91943275646000
