0.03945340321102
-0.08089146416693
-0.08089146416693
-0.03945340321102
679678.36243000347000
246769.45744744982000
