0.03803564355666
-0.08156770083330
-0.08156770083330
-0.03803564355666
679453.25985988579000
247278.64715392774000
