-0.03945340321102
0.08089146416693
0.08089146416693
0.03945340321102
676569.63756999653000
249328.54255255018000
