-0.03945340321102
0.08089146416693
0.08089146416693
0.03945340321102
675675.63756999653000
251157.54255255018000
