-0.03945340321102
0.08089146416693
0.08089146416693
0.03945340321102
682262.63756999653000
234975.54255255018000
