-0.03945340321102
0.08089146416693
0.08089146416693
0.03945340321102
681070.63756999653000
237458.54255255018000
