0.04085914497656
-0.08019058717695
-0.08019058717695
-0.04085914497656
680200.34913804021000
243081.91943275646000
